BEGIN:VCALENDAR
VERSION:2.0
PRODID:-//SECIHTI - ECPv6.15.16//NONSGML v1.0//EN
CALSCALE:GREGORIAN
METHOD:PUBLISH
X-WR-CALNAME:SECIHTI
X-ORIGINAL-URL:https://secihti.mx
X-WR-CALDESC:Eventos para SECIHTI
REFRESH-INTERVAL;VALUE=DURATION:PT1H
X-Robots-Tag:noindex
X-PUBLISHED-TTL:PT1H
BEGIN:VTIMEZONE
TZID:America/Mexico_City
BEGIN:STANDARD
TZOFFSETFROM:-0600
TZOFFSETTO:-0600
TZNAME:CST
DTSTART:20240101T000000
END:STANDARD
END:VTIMEZONE
BEGIN:VEVENT
DTSTART;TZID=America/Mexico_City:20250905T080000
DTEND;TZID=America/Mexico_City:20261231T200000
DTSTAMP:20260421T040130
CREATED:20250906T070712Z
LAST-MODIFIED:20251201T165102Z
UID:5610-1757059200-1798747200@secihti.mx
SUMMARY:Convocatorias Becas Australian Catholic University
DESCRIPTION:Información:\nacu.edu.au/study-at-acu/fees-and-scholarships/find-a-scholarship \nSíntesis: \nLa Universidad Católica de Australia (ACU\, por sus siglas en inglés) abre convocatorias para tres nuevas becas internacionales para estudiantes de Latinoamérica. Estas oportunidades están diseñadas para apoyar a estudiantes internacionales destacados que cursan programas en todos los niveles de estudio\, desde pregrado hasta doctorado. \nPara información sobre aplicación\, requisitos\, criterios de selección y más detalles sobre cada convocatoria\, se invita a revisar los enlaces correspondientes. De igual forma\, se invita a consultar la oferta completa de la ACU\, en la siguiente liga: acu.edu.au/study-at-acu/fees-and-scholarships/find-a-scholarship. \n\nACU International Launch Scholarship \n\nLas y los estudiantes internacionales elegibles que se inscriban en los nuevos programas en ACU\, como los programas insignia de Informática y Ciencias de Datos\, tienen garantizada una reducción del 20% en la matrícula para el comienzo de sus estudios en 2026. \nCierre de convocatoria: 31 de diciembre 2026 \nMás información en: https://acu.smapply.io/res/p/LIS-Cmg3q-GVMk2/. \n\nACU Flourishing Lives International Scholarship\n\nBecas para estudiantes latinoamericanos off-shore\, que comiencen sus estudios una reducción del 20% en la matrícula en casi todos sus carreras. \nCierre de convocatoria: 31 de diciembre 2026 \nMás información en: https://acu.smapply.io/res/p/FLIS-Cmg3q/ \n\nACU Vice Chancellor’s PhD Excellence Scholarship \n\nSu beca más prestigiosa\, basada en el mérito\, que apoya a destacados doctorandos internacionales. Cada beneficiario obtiene una exención del 100% de la matrícula durante la duración completa del curso\, además de un estipendio anual y asignaciones adicionales para cobertura médica y reubicación. \nMás información en: acu.edu.au/research-and-enterprise/graduate-research-school/study. \nContacto:\nJuliana Beltrán\, gerente de reclutamiento y vinculación de la ACU en América Latina (Juliana.Beltran@acu.edu.au)
URL:https://secihti.mx/evento/convocatorias-becas-australian-catholic-university/
CATEGORIES:Otros Organizadores
END:VEVENT
BEGIN:VEVENT
DTSTART;TZID=America/Mexico_City:20260130T140000
DTEND;TZID=America/Mexico_City:20260430T235900
DTSTAMP:20260421T040130
CREATED:20260130T200007Z
LAST-MODIFIED:20260130T200007Z
UID:24742-1769781600-1777593540@secihti.mx
SUMMARY:Convocatoria Mujeres en STEM 2026: British Council
DESCRIPTION:Información y registro: \nMujeres en STEM 2026 | British Council \nSíntesis: \nBritish Council invita a participar en la convocatoria “Mujeres en STEM 2026”\, dirigida a mujeres mexicanas interesadas en cursar estudios de maestría en ciencia\, tecnología\, ingeniería y matemáticas (STEM\, por sus siglas en inglés) en el Reino Unido. \nPara el ciclo escolar 2026–2027\, el Consejo Potosino de Ciencia y Tecnología (Copocyt) y la Fundación Coppel otorgarán 10 apoyos a mujeres mexicanas que resulten admitidas en alguna de las dos universidades participantes: University of Essex (Inglaterra) y Cardiff University (Gales). Dichas instituciones fueron seleccionadas por el British Council considerando la amplitud y calidad de su oferta académica en áreas STEM\, así como sus políticas y actividades en materia de inclusión y equidad de género. \nLa oferta académica disponible para México en esta edición es amplia y diversa\, e incluye\, entre otros\, programas de maestría en Inteligencia Artificial\, robótica\, biotecnología\, ciencias de datos\, salud pública\, urbanismo y arquitectura sustentable\, computación\, procesamiento de lenguaje natural\, energías sustentables y medio ambiente. \nCada universidad gestiona directamente sus procesos de admisión\, así como los requisitos de idioma correspondientes. La fecha límite para la recepción de solicitudes es el 30 de abril de 2026. Toda la información detallada sobre los programas participantes y los procesos de selección se encuentra disponible en la siguiente liga: Mujeres en STEM 2026 | British Council \nContacto:\nwomeninstem.scholarships@britishcouncil.org
URL:https://secihti.mx/evento/convocatoria-mujeres-en-stem-2026-british-council/
CATEGORIES:Convocatorias,Otros Organizadores
ATTACH;FMTTYPE=image/png:https://secihti.mx/wp-content/uploads/2026/01/Imagen1.png
ORGANIZER;CN="British Council":MAILTO:uk.scholarships@britishcouncil.org
END:VEVENT
BEGIN:VEVENT
DTSTART;TZID=America/Mexico_City:20260420T183000
DTEND;TZID=America/Mexico_City:20260430T235900
DTSTAMP:20260421T040130
CREATED:20260421T002109Z
LAST-MODIFIED:20260421T002745Z
UID:39806-1776709800-1777593540@secihti.mx
SUMMARY:Convocatoria de cooperación en el marco de la “Plataforma Triangular para el Desarrollo – TriNova”
DESCRIPTION:Fecha límite de postulación:\n30 de abril de 2026 \nInformación y registro:\nhttps://fondo-cooperacion-triangular.net/ \nSíntesis: \nLa Agencia Presidencial de Cooperación Internacional de Colombia (APC Colombia) y la Cooperación Alemana al Desarrollo (GIZ) invitan a postular en la convocatoria de proyectos de cooperación triangular\, en el marco de la “Plataforma Triangular para el Desarrollo – TriNova”. \nDicha convocatoria\, tiene como objetivo impulsar el desarrollo América Latina y el Caribe a través de iniciativas con alto impacto. \nLa propuesta deberá responder a la demanda del socio solicitante y garantizar la participación de todos los socios en la planeación\, el diseño y la ejecución del proyecto. Para postularse a la convocatoria\, al menos un integrante del equipo formulador deberá haber aprobado el curso de Formulación de Proyectos de Cooperación Triangular de GIZ (https://fondo-cooperacion-triangular.net/e-learning-ctr-2/es/) \nEs importante mencionar que las iniciativas deben ser postuladas a más tardar el 30 de abril de 2026\, a través de la Dirección General de Proyectos Especiales y Fondos de Cooperación Internacional para el Desarrollo de la AMEXCID\, mediante los correos electrónicos dgpefcid@sre.gob.mx y mnogueda@sre.gob.mx \nPara más información sobre criterios y procedimientos de postulación\, se pone a disposición la siguiente guía\, así como el enlace informativo: https://fondo-cooperacion-triangular.net/
URL:https://secihti.mx/evento/convocatoria-de-cooperacion-en-el-marco-de-la-plataforma-triangular-para-el-desarrollo-trinova/
CATEGORIES:Convocatorias,Otros Organizadores
END:VEVENT
END:VCALENDAR